BEGIN:VCALENDAR
VERSION:2.0
PRODID:-//Bailieborough Community School - ECPv4.6//NONSGML v1.0//EN
CALSCALE:GREGORIAN
METHOD:PUBLISH
X-WR-CALNAME:Bailieborough Community School
X-ORIGINAL-URL:http://www.bailieborocs.ie
X-WR-CALDESC:Events for Bailieborough Community School
BEGIN:VEVENT
DTSTART;VALUE=DATE:20171030
DTEND;VALUE=DATE:20171103
DTSTAMP:20171104T202943
CREATED:20170825T205631Z
LAST-MODIFIED:20170825T205631Z
UID:4920-1509321600-1509753599@www.bailieborocs.ie
SUMMARY:Midterm
DESCRIPTION:\n\n	\n
URL:http://www.bailieborocs.ie/event/midterm/
END:VEVENT
BEGIN:VEVENT
DTSTART;VALUE=DATE:20171113
DTEND;VALUE=DATE:20171113
DTSTAMP:20171104T202943
CREATED:20170825T205750Z
LAST-MODIFIED:20170825T205750Z
UID:4922-1510531200-1510617599@www.bailieborocs.ie
SUMMARY:Junior Cycle Cluster Day
DESCRIPTION:\n\n	\n
URL:http://www.bailieborocs.ie/event/junior-cycle-cluster-day/
END:VEVENT
BEGIN:VEVENT
DTSTART;TZID=UTC+0:20171116T173000
DTEND;TZID=UTC+0:20171116T200000
DTSTAMP:20171104T202943
CREATED:20170825T210024Z
LAST-MODIFIED:20171017T143245Z
UID:4924-1510853400-1510862400@www.bailieborocs.ie
SUMMARY:Enrolment and Open Night
DESCRIPTION:\n\n	\n
URL:http://www.bailieborocs.ie/event/enrolment-and-open-night-2/
END:VEVENT
BEGIN:VEVENT
DTSTART;VALUE=DATE:20171122
DTEND;VALUE=DATE:20171122
DTSTAMP:20171104T202943
CREATED:20170912T160720Z
LAST-MODIFIED:20170912T160720Z
UID:4970-1511308800-1511395199@www.bailieborocs.ie
SUMMARY:Junior Cycle Whole Staff Training Day
DESCRIPTION:\n\n	\n
URL:http://www.bailieborocs.ie/event/junior-cycle-whole-staff-training-day/
END:VEVENT
BEGIN:VEVENT
DTSTART;VALUE=DATE:20171127
DTEND;VALUE=DATE:20171127
DTSTAMP:20171104T202943
CREATED:20170825T210130Z
LAST-MODIFIED:20170825T210130Z
UID:4926-1511740800-1511827199@www.bailieborocs.ie
SUMMARY:6th Year P/S/T Meeting
DESCRIPTION:\n\n	\n
URL:http://www.bailieborocs.ie/event/6th-year-pst-meeting/
END:VEVENT
END:VCALENDAR